BEGIN:VCALENDAR
VERSION:2.0
PRODID:-//http://lindstedter-gutsstuben.de///NONSGML kigkonsult.se iCalcreator 2.10.15//
METHOD:PUBLISH
BEGIN:VEVENT
UID:20260422T063835CEST-0642Dd8NxJ@http://lindstedter-gutsstuben.de/
DTSTAMP:20260422T043835Z
DESCRIPTION:Wir freuen uns auf zahlreiche interessierte Besucher!+ + + um 1
 1:00 &amp\; um 14 Uhr + + +Führungen zur Geschichte des Gutshofes u.a. dur
 ch das denkmalgeschützte&nbsp\;#Gutshaus1704\, die&nbsp\;#Fachwerkscheune1
 788&nbsp\;sowie über das Gutsareal&nbsp\;Treffpunkt: vor dem Gutshaus&nbsp
 \;+ + + ab 10:00 Uhr + + +# Historisches Bogenschießen sowie Pfeil- und Se
 hnenbau mit dem Sportverein Wacker Lindstedt 1912 e.V.# Kindertraining im 
 Bogenschießen\n+ + + ab 11:00 Uhr + + +# Floristik-Kreativ-Workshop mit Fl
 oristae: In der Fachwerkscheune können Ernte- und Herbstkränze und andere 
 kleine florale Dekoobjekte unter Anleitung selbst angefertigt werden.Es fä
 llt ein kleiner Betrag für das Verbrauchsmaterial an - die Hälfte der Einn
 ahmen geht an den Gutshof.\n+ + + außerdem + + +# Galerie in der Fachwerks
 cheune: Jessica Richter &amp\; Conny Niehoff# Aktionskunst im Torhaus durc
 h Conny Niehoff # Outdoor-Kinderspiele\n# Fürs leibliche Wohl ist durchgeh
 end gesorgt!Wir freuen uns auf Deinen/Ihren Besuch. http://lindstedter-gut
 sstuben.de/index.php/component/rseventspro/event/367-tag-des-offenen-denkm
 als-auf-dem-gutshof-lindstedt?Itemid=101
DTSTART:20240908T110000Z
DTEND:20240908T170000Z
LOCATION:Gutshof Lindstedt (Zum Lindengut 77 \, Gardelegen \, Germany)
SUMMARY:Tag des offenen Denkmals auf dem Gutshof Lindstedt
URL:http://lindstedter-gutsstuben.de/index.php/component/rseventspro/event/
 367-tag-des-offenen-denkmals-auf-dem-gutshof-lindstedt?Itemid=101
END:VEVENT
END:VCALENDAR
